BEGIN:VCALENDAR
VERSION:2.0
PRODID:-//Spreading The Music - ECPv5.16.4//NONSGML v1.0//EN
CALSCALE:GREGORIAN
METHOD:PUBLISH
X-WR-CALNAME:Spreading The Music
X-ORIGINAL-URL:https://www.spreadingthemusic.com
X-WR-CALDESC:Events for Spreading The Music
REFRESH-INTERVAL;VALUE=DURATION:PT1H
X-Robots-Tag:noindex
X-PUBLISHED-TTL:PT1H
BEGIN:VTIMEZONE
TZID:UTC
BEGIN:STANDARD
TZOFFSETFROM:+0000
TZOFFSETTO:+0000
TZNAME:UTC
DTSTART:20200101T000000
END:STANDARD
END:VTIMEZONE
BEGIN:VEVENT
DTSTART;VALUE=DATE:20201221
DTEND;VALUE=DATE:20210104
DTSTAMP:20260423T220409
CREATED:20201212T060152Z
LAST-MODIFIED:20201212T062852Z
UID:3550-1608508800-1609718399@www.spreadingthemusic.com
SUMMARY:Winter Break!
DESCRIPTION:Spreading the Music will be \nCLOSED  \nMonday\, December 21\, 2020 – Sunday\, January 3rd\, 2020 for \nWINTER BREAK  \nRegular lessons will resume Monday\, January 4th\, 2021 \nPlease note\, not all teachers leave for the holidays\, especially during a pandemic. Teachers may still be available for continued lessons if able though not required. All lessons during this period must be scheduled directly with your private music teacher. School closers allow parents\, students\, and teachers to have much needed time off for rest\, repair\, and rejuvenation for the new year. Lessons missed during this period are accounted for in future lessons in any month with 31 days. Please contact our office if you have any questions.
URL:https://www.spreadingthemusic.com/events/winter-break/
CATEGORIES:School Closer
ORGANIZER;CN="Candace%20Crawford":MAILTO:ccconservatory@gmail.com
END:VEVENT
END:VCALENDAR