BEGIN:VCALENDAR
VERSION:2.0
PRODID:-//Spreading The Music - ECPv5.16.4//NONSGML v1.0//EN
CALSCALE:GREGORIAN
METHOD:PUBLISH
X-ORIGINAL-URL:https://www.spreadingthemusic.com
X-WR-CALDESC:Events for Spreading The Music
REFRESH-INTERVAL;VALUE=DURATION:PT1H
X-Robots-Tag:noindex
X-PUBLISHED-TTL:PT1H
BEGIN:VTIMEZONE
TZID:UTC
BEGIN:STANDARD
TZOFFSETFROM:+0000
TZOFFSETTO:+0000
TZNAME:UTC
DTSTART:20200101T000000
END:STANDARD
END:VTIMEZONE
BEGIN:VEVENT
DTSTART;VALUE=DATE:20201123
DTEND;VALUE=DATE:20201130
DTSTAMP:20260425T222948
CREATED:20201104T091751Z
LAST-MODIFIED:20201212T054124Z
UID:3460-1606089600-1606694399@www.spreadingthemusic.com
SUMMARY:Thanksgiving Break!
DESCRIPTION:Spreading the Music with be \nCLOSED \nWednesday\, November 23rd to Tuesday\, November 29th for \nTHANKSGIVING BREAK!
URL:https://www.spreadingthemusic.com/events/thanksgiving-break/
END:VEVENT
END:VCALENDAR